BEGIN:VCALENDAR
VERSION:2.0
PRODID:-//Freiwillige Feuerwehr Nußdorf - ECPv6.3.7//NONSGML v1.0//EN
CALSCALE:GREGORIAN
METHOD:PUBLISH
X-ORIGINAL-URL:https://www.ff-nussdorf.de
X-WR-CALDESC:Veranstaltungen für Freiwillige Feuerwehr Nußdorf
REFRESH-INTERVAL;VALUE=DURATION:PT1H
X-Robots-Tag:noindex
X-PUBLISHED-TTL:PT1H
BEGIN:VTIMEZONE
TZID:Europe/Berlin
BEGIN:DAYLIGHT
TZOFFSETFROM:+0100
TZOFFSETTO:+0200
TZNAME:CEST
DTSTART:20230326T010000
END:DAYLIGHT
BEGIN:STANDARD
TZOFFSETFROM:+0200
TZOFFSETTO:+0100
TZNAME:CET
DTSTART:20231029T010000
END:STANDARD
END:VTIMEZONE
BEGIN:VEVENT
DTSTART;TZID=Europe/Berlin:20230611T080000
DTEND;TZID=Europe/Berlin:20230611T120000
DTSTAMP:20260423T101341
CREATED:20230411T130359Z
LAST-MODIFIED:20230411T131012Z
UID:1163-1686470400-1686484800@www.ff-nussdorf.de
SUMMARY:Feuerwehrfest Albertaich
DESCRIPTION:Wir nehmen am Feuerwehrfest bei unseren Kameraden/innen in Albertaich teil. \n  \nWir treffen uns um 8:00 am Vereinsheim zur gemeinsamen Abfahrt\, aber natürlich kann auch jeder eigenständig anfahren. \nKleidung: Vereinsuniform mit Jacke\, blauem Hemd\, Krawatte und Feuerwehrkappe. Über “Jackenerleichterung” entscheiden wir spontan nach Wetterlage 😉
URL:https://www.ff-nussdorf.de/event/feuerwehrfest-albertaich/
CATEGORIES:Termine
ATTACH;FMTTYPE=image/jpeg:https://www.ff-nussdorf.de/wp-content/uploads/2020/08/machtl-steff.jpg
END:VEVENT
END:VCALENDAR