BEGIN:VCALENDAR
VERSION:2.0
PRODID:-//Freiwillige Feuerwehr Nußdorf - ECPv6.3.7//NONSGML v1.0//EN
CALSCALE:GREGORIAN
METHOD:PUBLISH
X-ORIGINAL-URL:https://www.ff-nussdorf.de
X-WR-CALDESC:Veranstaltungen für Freiwillige Feuerwehr Nußdorf
REFRESH-INTERVAL;VALUE=DURATION:PT1H
X-Robots-Tag:noindex
X-PUBLISHED-TTL:PT1H
BEGIN:VTIMEZONE
TZID:Europe/Berlin
BEGIN:DAYLIGHT
TZOFFSETFROM:+0100
TZOFFSETTO:+0200
TZNAME:CEST
DTSTART:20230326T010000
END:DAYLIGHT
BEGIN:STANDARD
TZOFFSETFROM:+0200
TZOFFSETTO:+0100
TZNAME:CET
DTSTART:20231029T010000
END:STANDARD
TZID:Europe/Paris
BEGIN:DAYLIGHT
TZOFFSETFROM:+0100
TZOFFSETTO:+0200
TZNAME:CEST
DTSTART:20230326T010000
END:DAYLIGHT
BEGIN:STANDARD
TZOFFSETFROM:+0200
TZOFFSETTO:+0100
TZNAME:CET
DTSTART:20231029T010000
END:STANDARD
END:VTIMEZONE
BEGIN:VEVENT
DTSTART;TZID=Europe/Berlin:20230702T080000
DTEND;TZID=Europe/Berlin:20230702T170000
DTSTAMP:20260423T085811
CREATED:20230411T130512Z
LAST-MODIFIED:20230411T130845Z
UID:1165-1688284800-1688317200@www.ff-nussdorf.de
SUMMARY:Feuerwehrfest Ruhpolding
DESCRIPTION:Wir nehmen am Feuerwehrfest bei unseren Kameraden/innen in Ruhpolding teil. \n  \nWir treffen uns um 8:00 am Vereinsheim zur gemeinsamen Abfahrt\, aber natürlich kann auch jeder eigenständig anfahren. \nKleidung: Vereinsuniform mit Jacke\, blauem Hemd\, Krawatte und Feuerwehrkappe. Über “Jackenerleichterung” entscheiden wir spontan nach Wetterlage 😉
URL:https://www.ff-nussdorf.de/event/feuerwehrfest-ruhpolding/
CATEGORIES:Termine
ATTACH;FMTTYPE=image/jpeg:https://www.ff-nussdorf.de/wp-content/uploads/2020/08/machtl-steff.jpg
END:VEVENT
BEGIN:VEVENT
DTSTART;TZID=Europe/Paris:20230709T093000
DTEND;TZID=Europe/Paris:20230709T170000
DTSTAMP:20260423T085812
CREATED:20230305T094724Z
LAST-MODIFIED:20230411T131755Z
UID:1123-1688895000-1688922000@www.ff-nussdorf.de
SUMMARY:Bulldog- und Mopedtreffen 2023
DESCRIPTION:Am 9.7 Juli gehts wieder heiß her – das 13. Moped- und Bulldogtreffen findet wieder statt.\n\nAlle 2 Jahre richten wir die Veranstaltung aus\, leider aufgrund Corona das letzte mal 2018.\n\nEs wird wieder einen Weitpreis und Meistpreise geben.\n\nTeilnahmeberechtigt sind alle Mopeds\, Roller und natürlich Landmaschinen und Bulldogs mit einer Erstzulassung vor 1993 (30 Jahre Oldtimergrenze).
URL:https://www.ff-nussdorf.de/event/bulldog-und-mopedtreffen-2023/
LOCATION:83365 Nussdorf\, Vereinsheim\, Dorfplatz\, Nussdorf\, Bayern\, 83365\, Deutschland
CATEGORIES:Termine
ATTACH;FMTTYPE=image/jpeg:https://www.ff-nussdorf.de/wp-content/uploads/2023/03/331792572_514230624201262_7802093901554451763_n.jpg
END:VEVENT
BEGIN:VEVENT
DTSTART;TZID=Europe/Berlin:20230730T080000
DTEND;TZID=Europe/Berlin:20230730T170000
DTSTAMP:20260423T085812
CREATED:20230411T130741Z
LAST-MODIFIED:20230411T131139Z
UID:1168-1690704000-1690736400@www.ff-nussdorf.de
SUMMARY:Feuerwehrfest in Hart mit Festwagen und Musikkapelle Nußdorf
DESCRIPTION:Wir nehmen am Feuerwehrfest bei unseren Kameraden/innen in Hart teil. \nAls Nachbarwehr kommen wir mit hoffentlich hoher Mann-/Fraustärke. Jedenfalls aktivieren wir unseren Festwagen und die Musikkapelle Nußdorf spielt für uns. \nZahlreiches erscheinen ist also Pflicht 🙂 \n  \nWir treffen uns um 8:00 am Vereinsheim zur gemeinsamen Abfahrt\, aber natürlich kann auch jeder eigenständig anfahren. \n  \nKleidung: Vereinsuniform mit Jacke\, blauem Hemd\, Krawatte und Feuerwehrkappe. Über “Jackenerleichterung” entscheiden wir spontan nach Wetterlage 😉
URL:https://www.ff-nussdorf.de/event/feuerwehrfest-in-hart-mit-kutsche-und-musikkapelle/
CATEGORIES:Termine
ATTACH;FMTTYPE=image/jpeg:https://www.ff-nussdorf.de/wp-content/uploads/2020/08/machtl-steff.jpg
END:VEVENT
END:VCALENDAR